BEGIN:VCALENDAR
PRODID:-//PUBBLE//agenda//NL
VERSION:2.0
METHOD:PUBLISH
BEGIN:VEVENT
DTSTART:20260422T181500Z
DTEND:20260422T194500Z
DTSTAMP:20260422T072615Z
UID:e5f4a737-f6d3-4dad-adbe-1f11348385b3
CREATED:20260422T072615Z
NAME:Breek de Week met Juliet in Het Klooster woerdensecourant.nl
X-WR-CALNAME:Breek de Week met Juliet in Het Klooster
X-ALT-DESC;FMTTYPE=text/html:<a href='/agenda/2026/4/22/breek-de-week-met-juliet-in-het-klooster-431788'>/agenda/2026/4/22/breek-de-week-met-juliet-in-het-klooster-431788</a> || <p>Juliet is dertig en maakt de balans op. Liefde, twijfels en de druk van het moderne leven. Ze deelt haar humor en kwetsbaarheid in muziek en anekdotes. De eeuwige twijfel? Kun je nog echt versmelten in deze individualistische samenleving? &nbsp;</p><p>Dit is haar theaterdebuut. Gewapend met piano en haar gitarist Pascal Voorbraak deelt ze lachwekkende anekdotes, breekt ze je hart met kwetsbare liedjes en zweept je weer op met een keiharde banger en bezingt ze gevat de moderne dertigersdilemma’s.&nbsp;</p><p>Begin je theateravond ontspannen met (voorafgaand aan de show) een dagmenu &nbsp;aan een van de lange tafels in Het Klooster.</p><p>Voor meer informatie: <a href="http://www.kloosterwoerden.nl" rel="noopener noreferrer" target="_blank">kloosterwoerden.nl</a>.</p>
DESCRIPTION:<a href='/agenda/2026/4/22/breek-de-week-met-juliet-in-het-klooster-431788'>/agenda/2026/4/22/breek-de-week-met-juliet-in-het-klooster-431788</a> || <p>Juliet is dertig en maakt de balans op. Liefde, twijfels en de druk van het moderne leven. Ze deelt haar humor en kwetsbaarheid in muziek en anekdotes. De eeuwige twijfel? Kun je nog echt versmelten in deze individualistische samenleving? &nbsp;</p><p>Dit is haar theaterdebuut. Gewapend met piano en haar gitarist Pascal Voorbraak deelt ze lachwekkende anekdotes, breekt ze je hart met kwetsbare liedjes en zweept je weer op met een keiharde banger en bezingt ze gevat de moderne dertigersdilemma’s.&nbsp;</p><p>Begin je theateravond ontspannen met (voorafgaand aan de show) een dagmenu &nbsp;aan een van de lange tafels in Het Klooster.</p><p>Voor meer informatie: <a href="http://www.kloosterwoerden.nl" rel="noopener noreferrer" target="_blank">kloosterwoerden.nl</a>.</p>
LAST-MODIFIED:20260422T072615Z
LOCATION: Stichting Kunstencentrum Het Klooster | Wilhelminaweg 77 Woerden
SEQUENCE:0
STATUS:CONFIRMED
SUMMARY:Breek de Week met Juliet in Het Klooster
TRANSP:OPAQUE
END:VEVENT
END:VCALENDAR
