BEGIN:VCALENDAR
PRODID:-//PUBBLE//agenda//NL
VERSION:2.0
METHOD:PUBLISH
BEGIN:VEVENT
DTSTART:20260422T080000Z
DTEND:20260422T100000Z
DTSTAMP:20260421T122533Z
UID:6283615d-d75a-4ca6-b6ed-f6e75df30336
CREATED:20260421T122533Z
NAME:Digitaal (inloop)spreekuur van de Bibliotheek woerdensecourant.nl
X-WR-CALNAME:Digitaal (inloop)spreekuur van de Bibliotheek
X-ALT-DESC;FMTTYPE=text/html:<a href='/agenda/2026/4/22/digitaal-inloop-spreekuur-van-de-bibliotheek-457136'>/agenda/2026/4/22/digitaal-inloop-spreekuur-van-de-bibliotheek-457136</a> || <p>Wie vragen heeft over zijn/haar computer, tablet of mobiele telefoon of moeite heeft met e-mailen, apps of instellingen, kan langskomen tijdens het digitaal spreekuur van Bibliotheek Utrechtse Venen. Aanmelden is niet nodig. Wie snel wil worden geholpen, kan van te voren een plekje reserveren. Ga hiervoor naar de balie van de bibliotheek of neem telefonisch contact op via: 0348-418354. Het spreekuur is gratis en voor iedereen. Lid zijn van de bibliotheek is niet nodig.</p>
DESCRIPTION:<a href='/agenda/2026/4/22/digitaal-inloop-spreekuur-van-de-bibliotheek-457136'>/agenda/2026/4/22/digitaal-inloop-spreekuur-van-de-bibliotheek-457136</a> || <p>Wie vragen heeft over zijn/haar computer, tablet of mobiele telefoon of moeite heeft met e-mailen, apps of instellingen, kan langskomen tijdens het digitaal spreekuur van Bibliotheek Utrechtse Venen. Aanmelden is niet nodig. Wie snel wil worden geholpen, kan van te voren een plekje reserveren. Ga hiervoor naar de balie van de bibliotheek of neem telefonisch contact op via: 0348-418354. Het spreekuur is gratis en voor iedereen. Lid zijn van de bibliotheek is niet nodig.</p>
LAST-MODIFIED:20260421T122533Z
LOCATION: Opstandingskerk Woerden | Wilhelminaweg 8 Woerden
SEQUENCE:0
STATUS:CONFIRMED
SUMMARY:Digitaal (inloop)spreekuur van de Bibliotheek
TRANSP:OPAQUE
END:VEVENT
END:VCALENDAR
