BEGIN:VCALENDAR
PRODID:-//PUBBLE//agenda//NL
VERSION:2.0
METHOD:PUBLISH
BEGIN:VEVENT
DTSTART:20260426T183000Z
DTEND:20260427T030000Z
DTSTAMP:20260423T191644Z
UID:d8644d27-ce8a-4af4-804d-82fa3302db3c
CREATED:20260423T191644Z
NAME:Koningsnacht Karaoke woerdensecourant.nl
X-WR-CALNAME:Koningsnacht Karaoke
X-ALT-DESC;FMTTYPE=text/html:<a href='/agenda/2026/4/26/koningsnacht-karaoke-458420'>/agenda/2026/4/26/koningsnacht-karaoke-458420</a> || <p>Zing je hartelust uit en vier de verjaardag van onze koning tijdens de Koningsnacht Karaoke. Het wordt een groot feest en iedereen is welkom. De entree is gratis.</p>
DESCRIPTION:<a href='/agenda/2026/4/26/koningsnacht-karaoke-458420'>/agenda/2026/4/26/koningsnacht-karaoke-458420</a> || <p>Zing je hartelust uit en vier de verjaardag van onze koning tijdens de Koningsnacht Karaoke. Het wordt een groot feest en iedereen is welkom. De entree is gratis.</p>
LAST-MODIFIED:20260423T191644Z
LOCATION: K'77 | Hoge Rijndijk 3A Woerden
SEQUENCE:0
STATUS:CONFIRMED
SUMMARY:Koningsnacht Karaoke
TRANSP:OPAQUE
END:VEVENT
END:VCALENDAR
