BEGIN:VCALENDAR
PRODID:-//PUBBLE//agenda//NL
VERSION:2.0
METHOD:PUBLISH
BEGIN:VEVENT
DTSTART:20260421T080000Z
DTEND:20260421T100000Z
DTSTAMP:20260420T033911Z
UID:4d7b50bf-57eb-4864-a185-848d1f8113c7
CREATED:20260420T033911Z
NAME:Kennismaken met schilderen met bijenwas woerdensecourant.nl
X-WR-CALNAME:Kennismaken met schilderen met bijenwas
X-ALT-DESC;FMTTYPE=text/html:<a href='/agenda/2026/4/21/kennismaken-met-schilderen-met-bijenwas-460381'>/agenda/2026/4/21/kennismaken-met-schilderen-met-bijenwas-460381</a> || <p>Schilderen met bijenwas wordt ook wel ‘Encaustic Art’ genoemd. Encaustic betekent inbranden. De bijenwas wordt verwerkt met warmte via een strijkijzertje. Door te experimenteren met verschillende kleuren en technieken komen de wonderlijkste vormen, effecten en structuren tevoorschijn. De workshop wordt verzorgd door Greetje Tjalsma. Aanmelden kan telefonisch via: 06-14004496 of per e-mail: info@samensterkhuis.nl.</p>
DESCRIPTION:<a href='/agenda/2026/4/21/kennismaken-met-schilderen-met-bijenwas-460381'>/agenda/2026/4/21/kennismaken-met-schilderen-met-bijenwas-460381</a> || <p>Schilderen met bijenwas wordt ook wel ‘Encaustic Art’ genoemd. Encaustic betekent inbranden. De bijenwas wordt verwerkt met warmte via een strijkijzertje. Door te experimenteren met verschillende kleuren en technieken komen de wonderlijkste vormen, effecten en structuren tevoorschijn. De workshop wordt verzorgd door Greetje Tjalsma. Aanmelden kan telefonisch via: 06-14004496 of per e-mail: info@samensterkhuis.nl.</p>
LAST-MODIFIED:20260420T033911Z
LOCATION: Samen sterk huis | Wilhelminaweg 12 Woerden
SEQUENCE:0
STATUS:CONFIRMED
SUMMARY:Kennismaken met schilderen met bijenwas
TRANSP:OPAQUE
END:VEVENT
END:VCALENDAR
