BEGIN:VCALENDAR
PRODID:-//PUBBLE//agenda//NL
VERSION:2.0
METHOD:PUBLISH
BEGIN:VEVENT
DTSTART:20260422T080000Z
DTEND:20260422T100000Z
DTSTAMP:20260421T122241Z
UID:1f233321-7c5a-4502-a721-8f7b3ba8fe9f
CREATED:20260421T122241Z
NAME:Workshop Positieve gezondheid woerdensecourant.nl
X-WR-CALNAME:Workshop Positieve gezondheid
X-ALT-DESC;FMTTYPE=text/html:<a href='/agenda/2026/4/22/workshop-positieve-gezondheid-460385'>/agenda/2026/4/22/workshop-positieve-gezondheid-460385</a> || <p>Onder leiding van Conny den Daas is in het Samen sterk huis een workshop ‘Positieve gezondheid’. Bij positieve gezondheid staan elementen als veerkracht, zingeving en zelfmanagement centraal, want gezondheid is meer dan alleen de afwezigheid van ziekte en klachten. Mensen maken kennis met de zes dimensies rondom gezondheid: mentaal welbevinden, zingeving, kwaliteit van leven, meedoen, dagelijks functioneren en lichaamsfuncties. Het accent wordt gelegd op wat nog wél kan en op de eerste stappen die je zelf daarin zou kunnen zetten.</p><p>Aanmelden is nodig en kan telefonisch via: 06-14004496 of per e-mail: <a href="mailto:info@samensterkhuis.nl">info@samensterkhuis.nl</a>.</p>
DESCRIPTION:<a href='/agenda/2026/4/22/workshop-positieve-gezondheid-460385'>/agenda/2026/4/22/workshop-positieve-gezondheid-460385</a> || <p>Onder leiding van Conny den Daas is in het Samen sterk huis een workshop ‘Positieve gezondheid’. Bij positieve gezondheid staan elementen als veerkracht, zingeving en zelfmanagement centraal, want gezondheid is meer dan alleen de afwezigheid van ziekte en klachten. Mensen maken kennis met de zes dimensies rondom gezondheid: mentaal welbevinden, zingeving, kwaliteit van leven, meedoen, dagelijks functioneren en lichaamsfuncties. Het accent wordt gelegd op wat nog wél kan en op de eerste stappen die je zelf daarin zou kunnen zetten.</p><p>Aanmelden is nodig en kan telefonisch via: 06-14004496 of per e-mail: <a href="mailto:info@samensterkhuis.nl">info@samensterkhuis.nl</a>.</p>
LAST-MODIFIED:20260421T122241Z
LOCATION: Samen sterk huis | Wilhelminaweg 12 Woerden
SEQUENCE:0
STATUS:CONFIRMED
SUMMARY:Workshop Positieve gezondheid
TRANSP:OPAQUE
END:VEVENT
END:VCALENDAR
