BEGIN:VCALENDAR
PRODID:-//PUBBLE//agenda//NL
VERSION:2.0
METHOD:PUBLISH
BEGIN:VEVENT
DTSTART:20260422T080000Z
DTEND:20260422T100000Z
DTSTAMP:20260422T065520Z
UID:210b91c3-9c56-4ccf-884f-0151688a62b5
CREATED:20260422T065520Z
NAME:Beter slapen door energiemassage woerdensecourant.nl
X-WR-CALNAME:Beter slapen door energiemassage
X-ALT-DESC;FMTTYPE=text/html:<a href='/agenda/2026/4/22/beter-slapen-door-energiemassage-460390'>/agenda/2026/4/22/beter-slapen-door-energiemassage-460390</a> || <p>Louk Thole geeft een speciale energiemassage. De massage is met aanraking door de handen en de warmte in de handen zorgt voor ontspanning. De massage gaat door de kleding heen en helpt om te ontspannen, het welzijn te verbeteren en beter te slapen. Aanmelden is nodig en kan telefonisch via: 06-14004496 of per e-mail: info@samensterkhuis.nl.</p>
DESCRIPTION:<a href='/agenda/2026/4/22/beter-slapen-door-energiemassage-460390'>/agenda/2026/4/22/beter-slapen-door-energiemassage-460390</a> || <p>Louk Thole geeft een speciale energiemassage. De massage is met aanraking door de handen en de warmte in de handen zorgt voor ontspanning. De massage gaat door de kleding heen en helpt om te ontspannen, het welzijn te verbeteren en beter te slapen. Aanmelden is nodig en kan telefonisch via: 06-14004496 of per e-mail: info@samensterkhuis.nl.</p>
LAST-MODIFIED:20260422T065520Z
LOCATION: Samen sterk huis | Wilhelminaweg 12 Woerden
SEQUENCE:0
STATUS:CONFIRMED
SUMMARY:Beter slapen door energiemassage
TRANSP:OPAQUE
END:VEVENT
END:VCALENDAR
