BEGIN:VCALENDAR
PRODID:-//PUBBLE//agenda//NL
VERSION:2.0
METHOD:PUBLISH
BEGIN:VEVENT
DTSTART:20260420T174500Z
DTEND:20260420T200000Z
DTSTAMP:20260420T034331Z
UID:afa252bd-77fb-4f0b-bce5-f365b088814b
CREATED:20260420T034331Z
NAME:Aglow bijeenkomst woerdensecourant.nl
X-WR-CALNAME:Aglow bijeenkomst
X-ALT-DESC;FMTTYPE=text/html:<a href='/agenda/2026/4/20/aglow-bijeenkomst-460775'>/agenda/2026/4/20/aglow-bijeenkomst-460775</a> || <p>Spreekster Danielle de Graaf gaat spreken over het thema: ‘Vogels in de bijbel’.</p>
DESCRIPTION:<a href='/agenda/2026/4/20/aglow-bijeenkomst-460775'>/agenda/2026/4/20/aglow-bijeenkomst-460775</a> || <p>Spreekster Danielle de Graaf gaat spreken over het thema: ‘Vogels in de bijbel’.</p>
LAST-MODIFIED:20260420T034331Z
LOCATION: Buurthuis De Plint | Jozef Israëlslaan 20 Woerden
SEQUENCE:0
STATUS:CONFIRMED
SUMMARY:Aglow bijeenkomst
TRANSP:OPAQUE
END:VEVENT
END:VCALENDAR
