BEGIN:VCALENDAR
PRODID:-//PUBBLE//agenda//NL
VERSION:2.0
METHOD:PUBLISH
BEGIN:VEVENT
DTSTART:20260422T180000Z
DTEND:20260422T200000Z
DTSTAMP:20260422T065358Z
UID:879b234d-fed3-4ee5-b82e-f76df8d17b46
CREATED:20260422T065358Z
NAME:Cultuurcafé in Galerie Boerenmarktstad woerdensecourant.nl
X-WR-CALNAME:Cultuurcafé in Galerie Boerenmarktstad
X-ALT-DESC;FMTTYPE=text/html:<a href='/agenda/2026/4/22/cultuurcafe-in-galerie-boerenmarktstad-460957'>/agenda/2026/4/22/cultuurcafe-in-galerie-boerenmarktstad-460957</a> || <p>Avond van het Cultuur Platform Woerden in samenwerking met het Agrarisch Centrum Woerden. Het programma biedt een gevarieerd overzicht van lokale cultuur. Het Agrarisch Centrum Woerden vertelt over immaterieel cultureel erfgoed, en de Kunstkring Woerden presenteert het project Woerdenismen. Schrijfster Marieke Leentvaar introduceert haar debuutdichtbundel <em>De Vonk van de Waterjuffer</em>, terwijl Jeroen van der Kamp zijn boek over een historische gebeurtenis in een Zegvelds weiland toelicht.</p><p>Muzikaal zorgt Helga Huisjes voor haar kaaslied in de pop-up galerie, en de boerenkapel van Harmonie de Vriendschap verzorgt de muzikale begeleiding van de avond. Daarnaast is er een proeverij van biologische boerderij De Beekhoeve uit Kamerik. De presentatie is in handen van Hans Teegelbeckers.</p><p>Vaste onderdeel van het Cultuurcafé is de één-minuut-pitch, waarbij lokale kunstenaars de kans krijgen hun projecten kort en krachtig voor het voetlicht te brengen. Voor meer informatie: info@cultuurplatformwoerden.nl.</p>
DESCRIPTION:<a href='/agenda/2026/4/22/cultuurcafe-in-galerie-boerenmarktstad-460957'>/agenda/2026/4/22/cultuurcafe-in-galerie-boerenmarktstad-460957</a> || <p>Avond van het Cultuur Platform Woerden in samenwerking met het Agrarisch Centrum Woerden. Het programma biedt een gevarieerd overzicht van lokale cultuur. Het Agrarisch Centrum Woerden vertelt over immaterieel cultureel erfgoed, en de Kunstkring Woerden presenteert het project Woerdenismen. Schrijfster Marieke Leentvaar introduceert haar debuutdichtbundel <em>De Vonk van de Waterjuffer</em>, terwijl Jeroen van der Kamp zijn boek over een historische gebeurtenis in een Zegvelds weiland toelicht.</p><p>Muzikaal zorgt Helga Huisjes voor haar kaaslied in de pop-up galerie, en de boerenkapel van Harmonie de Vriendschap verzorgt de muzikale begeleiding van de avond. Daarnaast is er een proeverij van biologische boerderij De Beekhoeve uit Kamerik. De presentatie is in handen van Hans Teegelbeckers.</p><p>Vaste onderdeel van het Cultuurcafé is de één-minuut-pitch, waarbij lokale kunstenaars de kans krijgen hun projecten kort en krachtig voor het voetlicht te brengen. Voor meer informatie: info@cultuurplatformwoerden.nl.</p>
LAST-MODIFIED:20260422T065358Z
LOCATION: Galerie Boerenmarktstad | Meulmansweg 35 Woerden
SEQUENCE:0
STATUS:CONFIRMED
SUMMARY:Cultuurcafé in Galerie Boerenmarktstad
TRANSP:OPAQUE
END:VEVENT
END:VCALENDAR
