BEGIN:VCALENDAR
PRODID:-//PUBBLE//agenda//NL
VERSION:2.0
METHOD:PUBLISH
BEGIN:VEVENT
DTSTART:20260425T083000Z
DTEND:20260425T100000Z
DTSTAMP:20260423T140602Z
UID:61fdc6c7-bb76-443b-b9fd-9bfe7f47aba0
CREATED:20260423T140602Z
NAME:Open ochtend Logeerhuis Bredius woerdensecourant.nl
X-WR-CALNAME:Open ochtend Logeerhuis Bredius
X-ALT-DESC;FMTTYPE=text/html:<a href='/agenda/2026/4/25/open-ochtend-logeerhuis-bredius-461217'>/agenda/2026/4/25/open-ochtend-logeerhuis-bredius-461217</a> || <p>Logeerhuis Bredius opent de deuren voor belangstellenden. Bezoekers worden ontvangen met koffie/thee met wat lekkers. Er is de mogelijkheid het logeerhuis te bekijken en volop informatie te krijgen. Het kan helpen mensen te stimuleren alvast te gaan kijken en niet te wachten tot de mantelzorger omvalt. Preventief gebruik maken van logeerzorg is bewezen effectief tegen overbelasting bij mantelzorgers en voorkomt crisissituaties en acute uitplaatsing naar een verpleeghuis. En het houdt mantelzorgers gezonder. Ook mensen die misschien vrijwilliger willen worden zijn welkom om langs te komen.</p>
DESCRIPTION:<a href='/agenda/2026/4/25/open-ochtend-logeerhuis-bredius-461217'>/agenda/2026/4/25/open-ochtend-logeerhuis-bredius-461217</a> || <p>Logeerhuis Bredius opent de deuren voor belangstellenden. Bezoekers worden ontvangen met koffie/thee met wat lekkers. Er is de mogelijkheid het logeerhuis te bekijken en volop informatie te krijgen. Het kan helpen mensen te stimuleren alvast te gaan kijken en niet te wachten tot de mantelzorger omvalt. Preventief gebruik maken van logeerzorg is bewezen effectief tegen overbelasting bij mantelzorgers en voorkomt crisissituaties en acute uitplaatsing naar een verpleeghuis. En het houdt mantelzorgers gezonder. Ook mensen die misschien vrijwilliger willen worden zijn welkom om langs te komen.</p>
LAST-MODIFIED:20260423T140602Z
LOCATION: Logeerhuis Bredius | Park Oudeland 74 Woerden
SEQUENCE:0
STATUS:CONFIRMED
SUMMARY:Open ochtend Logeerhuis Bredius
TRANSP:OPAQUE
END:VEVENT
END:VCALENDAR
