BEGIN:VCALENDAR
PRODID:-//PUBBLE//agenda//NL
VERSION:2.0
METHOD:PUBLISH
BEGIN:VEVENT
DTSTART:20260424T073000Z
DTEND:20260524T083000Z
DTSTAMP:20260423T140558Z
UID:d103d9dc-4725-441d-9ce0-889cef5477bf
CREATED:20260423T140558Z
NAME:Netwerk-koffie voor zzp’ers woerdensecourant.nl
X-WR-CALNAME:Netwerk-koffie voor zzp’ers
X-ALT-DESC;FMTTYPE=text/html:<a href='/agenda/2026/4/24/netwerk-koffie-voor-zzpers-461276'>/agenda/2026/4/24/netwerk-koffie-voor-zzpers-461276</a> || <p>ZOOOM ZZP Woerden houdt een koffie-netwerkuurtje voor zzp’ers. Het is geheel vrijblijvend en op eigen kosten. Wie geen lid is kan zich aanmelden via de <a href="https://zzpwoerden.nl/activiteiten/netwerk-koffie-april-2026/" target="_blank">website</a> van ZOOOM ZZP Woerden. </p>
DESCRIPTION:<a href='/agenda/2026/4/24/netwerk-koffie-voor-zzpers-461276'>/agenda/2026/4/24/netwerk-koffie-voor-zzpers-461276</a> || <p>ZOOOM ZZP Woerden houdt een koffie-netwerkuurtje voor zzp’ers. Het is geheel vrijblijvend en op eigen kosten. Wie geen lid is kan zich aanmelden via de <a href="https://zzpwoerden.nl/activiteiten/netwerk-koffie-april-2026/" target="_blank">website</a> van ZOOOM ZZP Woerden. </p>
LAST-MODIFIED:20260423T140558Z
LOCATION: café de Pompier | Groenendaal 17 Woerden
SEQUENCE:0
STATUS:CONFIRMED
SUMMARY:Netwerk-koffie voor zzp’ers
TRANSP:OPAQUE
END:VEVENT
END:VCALENDAR
