BEGIN:VCALENDAR
PRODID:-//PUBBLE//agenda//NL
VERSION:2.0
METHOD:PUBLISH
BEGIN:VEVENT
DTSTART:20260501T080000Z
DTEND:20260627T130000Z
DTSTAMP:20260423T175820Z
UID:028ae4ae-8065-4f6b-b420-ec7b87486404
CREATED:20260423T175820Z
NAME:Reisgidsen in de ruilkast woerdensecourant.nl
X-WR-CALNAME:Reisgidsen in de ruilkast
X-ALT-DESC;FMTTYPE=text/html:<a href='/agenda/2026/5/1/reisgidsen-in-de-ruilkast-461643'>/agenda/2026/5/1/reisgidsen-in-de-ruilkast-461643</a> || <p>In mei en juni kunnen er reisgidsen worden gebracht, geruild of meegenomen in de duurzaamheidswinkel. Vorig jaar naar Zweden geweest en dit jaar plannen om naar Italië te gaan? Hoe leuk als je je reisgids kunt ruilen. De duurzaamheidswinkel is geopend op woensdag (10.00-13.00 uur), vrijdag en zaterdag (12.00-15.00 uur). &nbsp;</p>
DESCRIPTION:<a href='/agenda/2026/5/1/reisgidsen-in-de-ruilkast-461643'>/agenda/2026/5/1/reisgidsen-in-de-ruilkast-461643</a> || <p>In mei en juni kunnen er reisgidsen worden gebracht, geruild of meegenomen in de duurzaamheidswinkel. Vorig jaar naar Zweden geweest en dit jaar plannen om naar Italië te gaan? Hoe leuk als je je reisgids kunt ruilen. De duurzaamheidswinkel is geopend op woensdag (10.00-13.00 uur), vrijdag en zaterdag (12.00-15.00 uur). &nbsp;</p>
LAST-MODIFIED:20260423T175820Z
LOCATION: Duurzaamheidswinkel | Voorstraat 75 Woerden
SEQUENCE:0
STATUS:CONFIRMED
SUMMARY:Reisgidsen in de ruilkast
TRANSP:OPAQUE
END:VEVENT
END:VCALENDAR
