BEGIN:VCALENDAR
PRODID:-//PUBBLE//agenda//NL
VERSION:2.0
METHOD:PUBLISH
BEGIN:VEVENT
DTSTART:20260502T080000Z
DTEND:20260502T100000Z
DTSTAMP:20260423T175630Z
UID:799fd278-9eb5-4b5c-935d-1167c4d9dc88
CREATED:20260423T175630Z
NAME:Open ochtend hospice De Mantelmeeuw woerdensecourant.nl
X-WR-CALNAME:Open ochtend hospice De Mantelmeeuw
X-ALT-DESC;FMTTYPE=text/html:<a href='/agenda/2026/5/2/open-ochtend-hospice-de-mantelmeeuw-461995'>/agenda/2026/5/2/open-ochtend-hospice-de-mantelmeeuw-461995</a> || <p>Er is de mogelijkheid het logeerhuis te bekijken en volop informatie te krijgen. Het kan helpen mensen te stimuleren alvast te gaan kijken en niet te wachten tot de mantelzorger omvalt. Preventief gebruik maken van logeerzorg is bewezen effectief tegen overbelasting bij mantelzorgers en voorkomt crisissituaties en acute uitplaatsing naar een verpleeghuis. Ook mensen die misschien vrijwilliger willen worden zijn welkom om langs te komen.</p>
DESCRIPTION:<a href='/agenda/2026/5/2/open-ochtend-hospice-de-mantelmeeuw-461995'>/agenda/2026/5/2/open-ochtend-hospice-de-mantelmeeuw-461995</a> || <p>Er is de mogelijkheid het logeerhuis te bekijken en volop informatie te krijgen. Het kan helpen mensen te stimuleren alvast te gaan kijken en niet te wachten tot de mantelzorger omvalt. Preventief gebruik maken van logeerzorg is bewezen effectief tegen overbelasting bij mantelzorgers en voorkomt crisissituaties en acute uitplaatsing naar een verpleeghuis. Ook mensen die misschien vrijwilliger willen worden zijn welkom om langs te komen.</p>
LAST-MODIFIED:20260423T175630Z
LOCATION: Hospice De Mantelmeeuw | Meeuwenlaan 14 Woerden
SEQUENCE:0
STATUS:CONFIRMED
SUMMARY:Open ochtend hospice De Mantelmeeuw
TRANSP:OPAQUE
END:VEVENT
END:VCALENDAR
